BEGIN:VCALENDAR
VERSION:2.0
PRODID:-//die PARTEI Schwäbisch Hall - ECPv6.3.4//NONSGML v1.0//EN
CALSCALE:GREGORIAN
METHOD:PUBLISH
X-ORIGINAL-URL:https://die-partei-sha.de
X-WR-CALDESC:Veranstaltungen für die PARTEI Schwäbisch Hall
REFRESH-INTERVAL;VALUE=DURATION:PT1H
X-Robots-Tag:noindex
X-PUBLISHED-TTL:PT1H
BEGIN:VTIMEZONE
TZID:Europe/Berlin
BEGIN:DAYLIGHT
TZOFFSETFROM:+0100
TZOFFSETTO:+0200
TZNAME:CEST
DTSTART:20240331T010000
END:DAYLIGHT
BEGIN:STANDARD
TZOFFSETFROM:+0200
TZOFFSETTO:+0100
TZNAME:CET
DTSTART:20241027T010000
END:STANDARD
END:VTIMEZONE
BEGIN:VEVENT
DTSTART;VALUE=DATE:20240609
DTEND;VALUE=DATE:20240610
DTSTAMP:20260424T113110
CREATED:20240318T082728Z
LAST-MODIFIED:20240318T082728Z
UID:107-1717891200-1717977599@die-partei-sha.de
SUMMARY:Europawahl
DESCRIPTION:Tbd
URL:https://die-partei-sha.de/event/europawahl/
END:VEVENT
BEGIN:VEVENT
DTSTART;TZID=Europe/Berlin:20240405T200000
DTEND;TZID=Europe/Berlin:20240405T220000
DTSTAMP:20260424T113110
CREATED:20240405T185606Z
LAST-MODIFIED:20240405T185711Z
UID:110-1712347200-1712354400@die-partei-sha.de
SUMMARY:Stammtisch
DESCRIPTION:– Plakatmotive\n– VHS-Interview-Fragen\n– offizielle Wahlkampftour\n– Wahlprogramm\n– asoziale Medien\n– Homepage
URL:https://die-partei-sha.de/event/stammtisch/
LOCATION:Ubar\, UBar Gelbingergasse 47\, Schwäbisch Hall\, 74523\, Deutschland
END:VEVENT
BEGIN:VEVENT
DTSTART;VALUE=DATE:20240405
DTEND;VALUE=DATE:20240406
DTSTAMP:20260424T113110
CREATED:20240405T190013Z
LAST-MODIFIED:20240405T190013Z
UID:116-1712275200-1712361599@die-partei-sha.de
SUMMARY:Wahlkampftour
DESCRIPTION:die PARTEI zu Gast in Schwäbisch Hall save the date
URL:https://die-partei-sha.de/event/wahlkampftour/
END:VEVENT
END:VCALENDAR